BEGIN:VCALENDAR
VERSION:2.0
PRODID:icalendar-ruby
CALSCALE:GREGORIAN
METHOD:PUBLISH
BEGIN:VEVENT
DTSTAMP:20260419T130714Z
UID:20-315162@hannibalfirst.com
DTSTART:20261018T220000Z
DTEND:20261018T233000Z
CLASS:PUBLIC
CREATED:20260419T025029
DESCRIPTION:The student ministry at Hannibal First Assembly of God is for s
 tudents in 6th through 12th grades. They currently meet each Sunday aftern
 oon from 5pm-6:30pm. 
LAST-MODIFIED:20260419T025029
LOCATION:Hannibal First Assembly of God
SUMMARY:HFA Students
URL;VALUE=URI:https://www.hannibalfirst.com/events/hfa-students/2026-10-18
END:VEVENT
END:VCALENDAR
